BEGIN:VCALENDAR
VERSION:2.0
PRODID:-//Stratis iCal API//FR
CALSCALE:GREGORIAN
X-WR-CALNAME:Kermesse dimanche 30 juin 🎈 🎉
BEGIN:VEVENT
UID:event-21398
SUMMARY:Kermesse dimanche 30 juin 🎈 🎉
DESCRIPTION:Kermesse
DTSTAMP:20240523T115116Z
DTSTART:20240630T123000Z
DTEND:20240630T160000Z
STATUS:CONFIRMED
SEQUENCE:1
BEGIN:VALARM
TRIGGER:-PT30M
DESCRIPTION:Kermesse dimanche 30 juin 🎈 🎉
ACTION:DISPLAY
END:VALARM
END:VEVENT
END:VCALENDAR